BEGIN:VCALENDAR
VERSION:2.0
PRODID:-//Tukios.com/
BEGIN:VEVENT
UID:b14f41d2-0596-4152-bb33-914cae0f1d29@obits.hopkofuneralhome.com
DTSTAMP:20260420T001547Z
DTSTART:20260424
SUMMARY:Burial
DESCRIPTION:
URL:https://obits.hopkofuneralhome.com/patricia-marek
LOCATION: 14609 Brookpark Rd  Brook Park OH 44142
GEO:41.4121119;-81.7964722
END:VEVENT
END:VCALENDAR