BEGIN:VCALENDAR
VERSION:2.0
PRODID:-//Tukios.com/
BEGIN:VEVENT
UID:9f776354-e266-4db9-8688-88e20458c378@obits.hopkofuneralhome.com
DTSTAMP:20260420T001751Z
DTSTART:20260424T150000Z
DTEND:20260424T160000Z
SUMMARY:Mass of Christian Burial
DESCRIPTION:
URL:https://obits.hopkofuneralhome.com/patricia-marek
LOCATION: 6740 Broadview Rd  Parma OH 44134
GEO:41.3823135;-81.6861418
END:VEVENT
END:VCALENDAR