BEGIN:VCALENDAR
VERSION:2.0
PRODID:-//Tukios.com/
BEGIN:VEVENT
UID:19adb9f7-8e3e-442b-b31e-6d731e8ac819@obits.hopkofuneralhome.com
DTSTAMP:20260420T001720Z
DTSTART:20260424T143000Z
DTEND:20260424T153000Z
SUMMARY:Prayer Service
DESCRIPTION:
URL:https://obits.hopkofuneralhome.com/patricia-marek
LOCATION: 6020 Broadview Rd  Parma OH 44134
GEO:41.3997983;-81.6892183
END:VEVENT
END:VCALENDAR