BEGIN:VCALENDAR
VERSION:2.0
PRODID:-//Tukios.com/
BEGIN:VEVENT
UID:8a3b1ca3-1872-4ca3-9242-ecf04097998b@obits.hopkofuneralhome.com
DTSTAMP:20260420T001853Z
DTSTART:20260423T210000Z
DTEND:20260424T000000Z
SUMMARY:Visitation
DESCRIPTION:
URL:https://obits.hopkofuneralhome.com/patricia-marek
LOCATION: 6020 Broadview Rd  Parma OH 44134
GEO:41.3997983;-81.6892183
END:VEVENT
END:VCALENDAR